BEGIN:VCALENDAR
VERSION:2.0
PRODID:-//Segelclub Wendelsee Thun//NONSGML kigkonsult.se iCalcreator 2.16.
 12//
METHOD:PUBLISH
X-MS-OLK-FORCEINSPECTOROPEN:TRUE
BEGIN:VEVENT
UID:20260419T201029CEST-0371WCVvVt@Segelclub Wendelsee Thun
DTSTAMP:20260419T181029Z
DESCRIPTION:\nLiebe SCWe-Mitglieder\n\nGerne laden wir euch zum Chlousehöck
  2019 ein.\nDieser findet aktuell wirklich am Chlousetag statt.\n\nKüche: 
      Rita und Pesche Feller\nClubwirt:  Andrea Michel\n\nAnmeldung:\nWir b
 itten um eure Anmeldung bis Dienstag\, 3. Dezember 2019 mit dem roten Meld
 eknopf oder mit einem Mail an info@scwe.ch
DTSTART:20191206T190000
DTEND:20191206T230000
LOCATION:SCWe
ORGANIZER:MAILTO:Segelclub Wendelsee Thun <info@scwe.ch>
SUMMARY:Chlousehöck
END:VEVENT
END:VCALENDAR
