BEGIN:VCALENDAR
VERSION:2.0
PRODID:-//Segelclub Wendelsee Thun//NONSGML kigkonsult.se iCalcreator 2.16.
 12//
METHOD:PUBLISH
X-MS-OLK-FORCEINSPECTOROPEN:TRUE
BEGIN:VEVENT
UID:20260419T201223CEST-00245BV7uo@Segelclub Wendelsee Thun
DTSTAMP:20260419T181223Z
DESCRIPTION:Liebe Clubmitglieder\n\nDas aktuelle prov. Jahresprogramm 2022 
 findet ihr unter dem Link auf der rechten Seite.\n\nAktuelle Angaben finde
 t man auch unter localsities\n\nStand: 08.12.2021/ Der Vorstand\n
DTSTART:20200101T000000
DTEND:20211231T000000
LOCATION:Clubhaus/ Thunersee
ORGANIZER:MAILTO:Segelclub Wendelsee Thun <info@scwe.ch>
SUMMARY:Jahresprogramm 2022
END:VEVENT
END:VCALENDAR
