BEGIN:VCALENDAR
VERSION:2.0
PRODID:-//Segelclub Wendelsee Thun//NONSGML kigkonsult.se iCalcreator 2.16.
 12//
METHOD:PUBLISH
X-MS-OLK-FORCEINSPECTOROPEN:TRUE
BEGIN:VEVENT
UID:20260419T172827CEST-12296h8miU@Segelclub Wendelsee Thun
DTSTAMP:20260419T152827Z
DESCRIPTION:
DTSTART:20160108T190000
DTEND:20160108T220000
LOCATION:Restaurant Lamm
ORGANIZER:MAILTO:Segelclub Wendelsee Thun <info@scwe.ch>
SUMMARY:Kegel Cup
END:VEVENT
END:VCALENDAR
