BEGIN:VCALENDAR
VERSION:2.0
PRODID:-//Segelclub Wendelsee Thun//NONSGML kigkonsult.se iCalcreator 2.16.
 12//
METHOD:PUBLISH
X-MS-OLK-FORCEINSPECTOROPEN:TRUE
BEGIN:VEVENT
UID:20260419T201114CEST-7161CGJWM2@Segelclub Wendelsee Thun
DTSTAMP:20260419T181114Z
DESCRIPTION:Letzter Anlass im Jahr 2019\nDer traditionelle Altjahrshöck mit
  Raclette bis gnueg.\n\nDatum          Samstag\, 28. Dezember 2019\nZeit  
               Apéro ab 19:00 Uhr\n                       Raclette ab 19:30
  Uhr\nKöche            Heinz\, Beat und Erich\nWirt                Daniel 
 Jungen\nDetails           Siehe Einladung\n\nAnmeldung  \nGerne bis Dienst
 ag\, 24.12.2019 mit dem roten Meldeknopf oder per E-Mail an info@scwe.ch\n
 \n 
DTSTART:20191228T190000
DTEND:20191228T230000
LOCATION:Clublokal
ORGANIZER:MAILTO:Segelclub Wendelsee Thun <info@scwe.ch>
SUMMARY:Altjahrshöck 2019
END:VEVENT
END:VCALENDAR
