BEGIN:VCALENDAR
VERSION:2.0
PRODID:-//Segelclub Wendelsee Thun//NONSGML kigkonsult.se iCalcreator 2.16.
 12//
METHOD:PUBLISH
X-MS-OLK-FORCEINSPECTOROPEN:TRUE
BEGIN:VEVENT
UID:20260419T201223CEST-2458VX41cE@Segelclub Wendelsee Thun
DTSTAMP:20260419T181223Z
DESCRIPTION:Datum\, Zeit  \nSamstag\, 16. November 2019\, um 19:00 Uhr\n\nO
 rt                \nQuartierbeit 13 an der Länggasse 13 in Thun\n\nSiehe  
            \nhttps://quartierbeiz.ch/MENU/\n\nAnmeldung\nJa gerne mit der 
 SCWe-Seite oder per Mail bis Sa\, 09. November 2019\nBesten Dank.\n\n\nDer
  Vorstand
DTSTART:20191116T190000
DTEND:20191116T230000
LOCATION:Quartierbeiz 13
ORGANIZER:MAILTO:Segelclub Wendelsee Thun <info@scwe.ch>
SUMMARY:Seebärenabend 2019
END:VEVENT
END:VCALENDAR
