BEGIN:VCALENDAR
VERSION:2.0
PRODID:-//Segelclub Wendelsee Thun//NONSGML kigkonsult.se iCalcreator 2.16.
 12//
METHOD:PUBLISH
X-MS-OLK-FORCEINSPECTOROPEN:TRUE
BEGIN:VEVENT
UID:20260419T201222CEST-7276zXwvUL@Segelclub Wendelsee Thun
DTSTAMP:20260419T181222Z
DESCRIPTION:\nAbsegeln auf dem See ist wegen dem schlechten Wetter abgesagt
 \nWir treffen uns deshalb um 18:30 Uhr  im Clubhaus zum Apéro.\nDer Apéro 
 wird vom Club und vom Spicherebeck gespendet.\nKeine Anmeldung.\n\nOktober
 fest im Clubhaus\n\nAm Abend ab 19:00 Uhr im Clublokal laden wir zum Oktob
 erfest mit Weisswurst oder Käsebrezen und Bier ein.\n\nAnmeldung\nBitte bi
 s Mittwoch\, 2. Oktober 2019 mit der SCWe-Seite oder per E-Mail an info@sc
 we.ch\n\nDer Vorstand\n
DTSTART:20191005T153000
DTEND:20191005T230000
LOCATION:See / Clubkokal
ORGANIZER:MAILTO:Segelclub Wendelsee Thun <info@scwe.ch>
SUMMARY:Absegeln und Oktoberfest
END:VEVENT
END:VCALENDAR
