BEGIN:VCALENDAR
VERSION:2.0
PRODID:-//Segelclub Wendelsee Thun//NONSGML kigkonsult.se iCalcreator 2.16.
 12//
METHOD:PUBLISH
X-MS-OLK-FORCEINSPECTOROPEN:TRUE
BEGIN:VEVENT
UID:20260419T201058CEST-73629tMsJ5@Segelclub Wendelsee Thun
DTSTAMP:20260419T181058Z
DESCRIPTION:Apéro zwischendurch\n\nOrt: Hotel Holiday in Thun\nZeit: 11:00 
 - 12:00 Uhr\n\nUngezwungener Anlass ohne Anmeldung: Einfach kommen und Pla
 tz nehmen.\nDer Präsident
DTSTART:20191018T110000
DTEND:20191018T120000
LOCATION:Holiday
ORGANIZER:MAILTO:Segelclub Wendelsee Thun <info@scwe.ch>
SUMMARY:Apéro zwischendurch
END:VEVENT
END:VCALENDAR
