BEGIN:VCALENDAR
VERSION:2.0
PRODID:-//Segelclub Wendelsee Thun//NONSGML kigkonsult.se iCalcreator 2.16.
 12//
METHOD:PUBLISH
X-MS-OLK-FORCEINSPECTOROPEN:TRUE
BEGIN:VEVENT
UID:20260419T201215CEST-6138P8m7Ge@Segelclub Wendelsee Thun
DTSTAMP:20260419T181215Z
DESCRIPTION:\nRuedi und Marianne Mäusli laden uns zum Waadtländerabend ein.
 \nDetails siehe in der Einladung.\n\nBeginn: Um 19:00 Uhr\n\nAnmeldung\nBi
 tte bis spätestens Mittwoch\, 4. September 2019 mit der SCWe-Seite oder an
  info@scwe.ch\n\nClubwirt: Pesche Feller\n\nBesten Dank an Ruedi und Maria
 nne für die Gestaltung des Abends.\n 
DTSTART:20190906T190000
DTEND:20190906T230000
LOCATION:Clubhaus
ORGANIZER:MAILTO:Segelclub Wendelsee Thun <info@scwe.ch>
SUMMARY:Septemberhöck
END:VEVENT
END:VCALENDAR
