BEGIN:VCALENDAR
VERSION:2.0
PRODID:-//Segelclub Wendelsee Thun//NONSGML kigkonsult.se iCalcreator 2.16.
 12//
METHOD:PUBLISH
X-MS-OLK-FORCEINSPECTOROPEN:TRUE
BEGIN:VEVENT
UID:20260419T171637CEST-4734X6Tju7@Segelclub Wendelsee Thun
DTSTAMP:20260419T151637Z
DESCRIPTION:
DTSTART:20151229T183000
DTEND:20151229T235900
LOCATION:Clublokal
ORGANIZER:MAILTO:Segelclub Wendelsee Thun <info@scwe.ch>
SUMMARY:Altjahrs Höck - Raclette
END:VEVENT
END:VCALENDAR
