BEGIN:VCALENDAR
VERSION:2.0
PRODID:-//Segelclub Wendelsee Thun//NONSGML kigkonsult.se iCalcreator 2.16.
 12//
METHOD:PUBLISH
X-MS-OLK-FORCEINSPECTOROPEN:TRUE
BEGIN:VEVENT
UID:20260419T201637CEST-71981NxFtp@Segelclub Wendelsee Thun
DTSTAMP:20260419T181637Z
DESCRIPTION:am Samstag\, 29. Juni 2019 . . . und am Sonntag!\n\nSegelfahrt 
 und Eintreffen der Boote im Güetital\n\nAm Samstag\, 29.06.19 ab 16:15 Uhr
 \n\nMole Güetital\, Innenseite\n\nSCWe-Apéro ca 17:00 Uhr\n\nAnmeldung kei
 ne\n\nAnschliessend gemütliches Beisammensein mit Picknick oder mehr. Zu s
 päter Stunde wird im Güetital auf dem Schiff übernachtet. Also an Bord.\n
 \nDie Durchführung (je nach Witterung) wird spätestens am Samstagmorgen au
 f der SCWe-Seite publiziert: www.scwe.ch\n\n01.06.2019/ der Vorstand\n
DTSTART:20190629T161500
DTEND:20190630T110000
LOCATION:Mole Güetital
ORGANIZER:MAILTO:Segelclub Wendelsee Thun <info@scwe.ch>
SUMMARY:Samschtigsplousch Ausweichdatum
END:VEVENT
END:VCALENDAR
