BEGIN:VCALENDAR
VERSION:2.0
PRODID:-//Segelclub Wendelsee Thun//NONSGML kigkonsult.se iCalcreator 2.16.
 12//
METHOD:PUBLISH
X-MS-OLK-FORCEINSPECTOROPEN:TRUE
BEGIN:VEVENT
UID:20260419T201437CEST-6790MnpP1u@Segelclub Wendelsee Thun
DTSTAMP:20260419T181437Z
DESCRIPTION:am Samstag\, 22. Juni 2019 . . . und am Sonntag!\n-> Neu: Bei R
 egenwetter eine Woche später\n\nSegelfahrt und Eintreffen der Boote im Güe
 tital\nAm Samstag\, 22.06.19 ab 16:15 Uhr oder am Samstag\, 29.06.19 ab 16
 :15 Uhr an der Mole Güetital\, Innenseite\n\nSCWe-Apéro ca 17:00 Uhr\n\nAs
 chliessend gemütliches Beisammensein mit Picknick oder mehr. Zu später Stu
 nde wird im Güetital auf dem Schiff übernachtet. Also an Bord.\n\nDie Durc
 hführung oder Verschiebung (je nach Witterung) wird spätestens am Samstagm
 orgen auf der SCWe-Seite publiziert: www.scwe.ch\n\n01.06.2019/ der Vorsta
 nd\n
DTSTART:20190622T161500
DTEND:20190623T110000
LOCATION:Mole Güetital
ORGANIZER:MAILTO:Segelclub Wendelsee Thun <info@scwe.ch>
SUMMARY:Samschtigsplousch 
END:VEVENT
END:VCALENDAR
