BEGIN:VCALENDAR
VERSION:2.0
PRODID:-//Segelclub Wendelsee Thun//NONSGML kigkonsult.se iCalcreator 2.16.
 12//
METHOD:PUBLISH
X-MS-OLK-FORCEINSPECTOROPEN:TRUE
BEGIN:VEVENT
UID:20260419T201556CEST-1809eAji8d@Segelclub Wendelsee Thun
DTSTAMP:20260419T181556Z
DESCRIPTION:Kleiner Apéro zwischendurch und Plauderstunde im Hotel Holiday 
 in Thun.\nJeweils am Freitag etwa in der Monatsmitte von 11:00 bis 12:00 U
 hr.\nBei schönem Wetter im Freien.\n\nOhne Anmeldung\; einfach nur kommen 
 und teilnehmen.
DTSTART:20190719T120000
DTEND:20190719T130000
LOCATION:Hotel Holiday
ORGANIZER:MAILTO:Segelclub Wendelsee Thun <info@scwe.ch>
SUMMARY:Apéro zwischendurch
END:VEVENT
END:VCALENDAR
