BEGIN:VCALENDAR
VERSION:2.0
PRODID:-//Segelclub Wendelsee Thun//NONSGML kigkonsult.se iCalcreator 2.16.
 12//
METHOD:PUBLISH
X-MS-OLK-FORCEINSPECTOROPEN:TRUE
BEGIN:VEVENT
UID:20260419T202656CEST-2036cvBxoM@Segelclub Wendelsee Thun
DTSTAMP:20260419T182656Z
DESCRIPTION:Kleiner Apéro zwischendurch und Plauderstunde im Hotel Holiday 
 in Thun.\nJeweils am Freitag etwa in der Monatsmitte von 11:00 bis 12:00 U
 hr.\nBei warmem Wetter draussen.\n\nOhne Anmeldung\; einfach nur kommen un
 d teilnehmen.
DTSTART:20190614T110000
DTEND:20190614T120000
LOCATION:Hotel Holiday
ORGANIZER:MAILTO:Segelclub Wendelsee Thun <info@scwe.ch>
SUMMARY:Apéro zwischendurch
END:VEVENT
END:VCALENDAR
