BEGIN:VCALENDAR
VERSION:2.0
PRODID:-//Segelclub Wendelsee Thun//NONSGML kigkonsult.se iCalcreator 2.16.
 12//
METHOD:PUBLISH
X-MS-OLK-FORCEINSPECTOROPEN:TRUE
BEGIN:VEVENT
UID:20260419T201252CEST-87526e7ARP@Segelclub Wendelsee Thun
DTSTAMP:20260419T181252Z
DESCRIPTION:Planung und Abrechnung \n\nMit dem untenstehenden Link kann die
  Doodle-Planung für den gschWIND-Betrieb am Mittwochabend und an den Regat
 ten gestartet werden.\nEs können sich jeweils bis max 5 Personen eintragen
 .\nLink zur Meldung und Planung    Doodle  vom Juli - Oktober 2019\n\nDas 
 Boot ist für das Mittwochssegeln und die TBSV-Regatten reserviert. Es ist 
 wünschenswert\, dass das Boot in den reservierten Zeiten möglichst regelmä
 ssig durch SCWe-Mitglieder benutzt wird. Wenn es nicht benützt wird\, ist 
 es erwünscht\, dass das Boot rechtzeitig freigegeben wird.\n\nDie Verantwo
 rtung für das Segeln trägt jeweils ein autorisierter 'Kapitän' mit der ent
 sprechenden Ausbildung. \nDie Mitsegelgelegenheit ist für alle SCWe-Mitgli
 edern und deren Gäste möglich.\n\n19.04.2019/28.06.2019 Vorstand in Abspra
 che mit dem gschWIND-Team
DTSTART:20190401T000000
DTEND:20190630T000000
LOCATION:Lachenhafen
ORGANIZER:MAILTO:Segelclub Wendelsee Thun <info@scwe.ch>
SUMMARY:Reservation gschWIND
END:VEVENT
END:VCALENDAR
