BEGIN:VCALENDAR
VERSION:2.0
PRODID:-//Segelclub Wendelsee Thun//NONSGML kigkonsult.se iCalcreator 2.16.
 12//
METHOD:PUBLISH
X-MS-OLK-FORCEINSPECTOROPEN:TRUE
BEGIN:VEVENT
UID:20260419T201350CEST-5104Ozxx4o@Segelclub Wendelsee Thun
DTSTAMP:20260419T181350Z
DESCRIPTION:Fahrt mit der BLS nach Faulensee mit Fischessen im Restaurant H
 echt.\n\nMenue\n- Gemischter Salat oder Kürbissuppe\n- Zander gebacken mit
  Tartarsauce\n- Butterkartoffeln\n- Gebrannte Crem\n- 2 dl Weisswein\n- Ka
 ffee und Kleingebäck\n\nReise\nThun ab um 11:40 Uhr bei der Lände beim  Ba
 hnhof\nFaulensee an um 12:40 Uhr\; anschliessend Mittagessen\n\nBitte das 
 Billet selber organisieren.\n\nRückreise nach Thun\n- Variante 1: Abfahrt 
 in Faulensee mit der Blüemlisalp um 16:20 Uhr\n- Variante 2: Uferweg nach 
 Spiez und anschliessend Fahrt mit der Blüemlisalp um 16:34 Uhr an Spiez\n
 \nAnmeldung\nGerne bis Dienstag\, 10. September 2019 per Mail info@scwe.ch
 \n.
DTSTART:20190913T090000
DTEND:20190913T160000
LOCATION:Faulensee
ORGANIZER:MAILTO:Segelclub Wendelsee Thun <info@scwe.ch>
SUMMARY:Apéro zwischendurch: Ausflug mit Fischessen
END:VEVENT
END:VCALENDAR
