BEGIN:VCALENDAR
VERSION:2.0
PRODID:-//Segelclub Wendelsee Thun//NONSGML kigkonsult.se iCalcreator 2.16.
 12//
METHOD:PUBLISH
X-MS-OLK-FORCEINSPECTOROPEN:TRUE
BEGIN:VEVENT
UID:20260419T201059CEST-1052RtpUce@Segelclub Wendelsee Thun
DTSTAMP:20260419T181059Z
DESCRIPTION:\n\nSamstag\, 10. August 2019\nWendelseecup siehe Flyer Wendels
 eecup\n\nSonntag\, 11. August 2019\nWendelsee Classic siehe Flyer Classicr
 egatta\n\nAnmeldung auf Manage2Sail bei Swiss Sailing\nmanage2Sail\n\nDer 
 Regattapräsident Stefan Wyler
DTSTART:20190810T090000
DTEND:20190811T170000
LOCATION:Clubhaus/ unt Seebecken
ORGANIZER:MAILTO:Segelclub Wendelsee Thun <info@scwe.ch>
SUMMARY:Regattaweekend 2019
END:VEVENT
END:VCALENDAR
