BEGIN:VCALENDAR
VERSION:2.0
PRODID:-//Segelclub Wendelsee Thun//NONSGML kigkonsult.se iCalcreator 2.16.
 12//
METHOD:PUBLISH
X-MS-OLK-FORCEINSPECTOROPEN:TRUE
BEGIN:VEVENT
UID:20260419T201058CEST-4689EuwmzP@Segelclub Wendelsee Thun
DTSTAMP:20260419T181058Z
DESCRIPTION:\nAb 19:00 Uhr stehen der Grill\, Tische und gekühlte Getränke 
 zur Verfügung.\nDas Grillgut und die Beilagen nehmt bitte selber mit.\n\nB
 ei schönem Wetter essen wir draussen. Bei Regenwetter im Clublokal.\n\nKei
 ne Anmeldung erforderlich.
DTSTART:20190705T190000
DTEND:20190705T230000
LOCATION:Clubhaus
ORGANIZER:MAILTO:Segelclub Wendelsee Thun <info@scwe.ch>
SUMMARY:Juli-Höck 2019
END:VEVENT
END:VCALENDAR
