BEGIN:VCALENDAR
VERSION:2.0
PRODID:-//Segelclub Wendelsee Thun//NONSGML kigkonsult.se iCalcreator 2.16.
 12//
METHOD:PUBLISH
X-MS-OLK-FORCEINSPECTOROPEN:TRUE
BEGIN:VEVENT
UID:20260419T201437CEST-40944RvE6P@Segelclub Wendelsee Thun
DTSTAMP:20260419T181437Z
DESCRIPTION:\n\nDas Menü\n- Apéro Häppchen\n- Spaghetti mit drei Saucen\n- 
 Dessert\nPreis: Fr 20.- pro Person\nSiehe beiliegende Einladung.\nAnmeldun
 g gerne bis Di\, 4. Juni 2019 mit der SCWe-Seite oder per Mail an info@scw
 e.ch\n\nBesten Dank an Koni für die Vorbereitung.\n\n\n \n
DTSTART:20190607T190000
DTEND:20190607T230000
LOCATION:SCWe-Clublokal
ORGANIZER:MAILTO:Segelclub Wendelsee Thun <info@scwe.ch>
SUMMARY:Juni-Höck 2019
END:VEVENT
END:VCALENDAR
