BEGIN:VCALENDAR
VERSION:2.0
PRODID:-//Segelclub Wendelsee Thun//NONSGML kigkonsult.se iCalcreator 2.16.
 12//
METHOD:PUBLISH
X-MS-OLK-FORCEINSPECTOROPEN:TRUE
BEGIN:VEVENT
UID:20260419T174059CEST-5774uzvd8d@Segelclub Wendelsee Thun
DTSTAMP:20260419T154059Z
DESCRIPTION:Hier geht es zum Flyer und der Einladung
DTSTART:20151106T180000
DTEND:20151106T225900
LOCATION:Clublokal
ORGANIZER:MAILTO:Segelclub Wendelsee Thun <info@scwe.ch>
SUMMARY:November Höck
END:VEVENT
END:VCALENDAR
