BEGIN:VCALENDAR
VERSION:2.0
PRODID:-//Segelclub Wendelsee Thun//NONSGML kigkonsult.se iCalcreator 2.16.
 12//
METHOD:PUBLISH
X-MS-OLK-FORCEINSPECTOROPEN:TRUE
BEGIN:VEVENT
UID:20260419T201529CEST-1777wfEGcB@Segelclub Wendelsee Thun
DTSTAMP:20260419T181529Z
DESCRIPTION:\nDas RUGRISE wird zum dritten Mal durchgeführt. Es ist ein gem
 einsamer Anlass mit dem Ruderclub. Er beinhaltet drei Teile\, an denen man
  je nach Lust mitmachen kann.\n- Vormittag: Ein Schnupperrudern in den Clu
 bbooten\n- Mittag: Gemeinsames Grillieren und Mittagessen im Freien\n- Nac
 hmittag: Ein Schnuppersegeln für die Ruderer\nFür den Nachmittag braucht e
 s ein paar Segelboote\, damit wir die interessierten Ruderer mitnehmen kön
 nen.\n\nVerschiebung\nBei schlechtem Wetter findet das RUGRISE am 18. Mai 
 2019 statt.\n\nDie detaillierte Anmeldung machen wir über eine Doodelumfra
 ge: Wer will rudern? Wer kommt grillieren? Wer kommt mit seinem Segelboot 
 . . . \nAnmeldung mit Doodle \n\n\nGedankliche Vorbereitung unter: Technik
 -Lehrfilm von Swissrowing\n
DTSTART:20190511T090000
DTEND:20190511T170000
LOCATION:Clubhaus
ORGANIZER:MAILTO:Segelclub Wendelsee Thun <info@scwe.ch>
SUMMARY:RUGRISE
END:VEVENT
END:VCALENDAR
