BEGIN:VCALENDAR
VERSION:2.0
PRODID:-//Segelclub Wendelsee Thun//NONSGML kigkonsult.se iCalcreator 2.16.
 12//
METHOD:PUBLISH
X-MS-OLK-FORCEINSPECTOROPEN:TRUE
BEGIN:VEVENT
UID:20260419T201528CEST-9110MMuUBD@Segelclub Wendelsee Thun
DTSTAMP:20260419T181528Z
DESCRIPTION:Etwas Neues im Repertoire der SCWe-Höcks:\n\nMartha Bigler koch
 t für uns Aelplermagrone mit Apfelmus und zum Kaffe gibt es etwas Süsses.
 \n\nDatum\, Zeit\nFreitag\, 5. April 2019 um 19:00 Uhr\n\nOrt             
   \nSCWe-Lokal\n\nAnmeldung\nBitte bis spätestens Di\, 2. April mit der SC
 We-Seite oder an info@scwe.ch\n\nBereits jetzt herzlichen Dank für die Vor
 bereitung an Martha Bigler und den Clubwirt Daniel Jungen\n
DTSTART:20190405T190000
DTEND:20190405T230000
LOCATION:SCWe-Lokal
ORGANIZER:MAILTO:Segelclub Wendelsee Thun <info@scwe.ch>
SUMMARY:Aprilhöck 2019
END:VEVENT
END:VCALENDAR
