BEGIN:VCALENDAR
VERSION:2.0
PRODID:-//Segelclub Wendelsee Thun//NONSGML kigkonsult.se iCalcreator 2.16.
 12//
METHOD:PUBLISH
X-MS-OLK-FORCEINSPECTOROPEN:TRUE
BEGIN:VEVENT
UID:20260419T213859CEST-8356bUakLS@Segelclub Wendelsee Thun
DTSTAMP:20260419T193859Z
DESCRIPTION:
DTSTART:20190322T200000
DTEND:20190322T230000
LOCATION:Gasthof Rössli Thun
ORGANIZER:MAILTO:Segelclub Wendelsee Thun <info@scwe.ch>
SUMMARY:SCWe GV 2019
END:VEVENT
END:VCALENDAR
