BEGIN:VCALENDAR
VERSION:2.0
PRODID:-//Segelclub Wendelsee Thun//NONSGML kigkonsult.se iCalcreator 2.16.
 12//
METHOD:PUBLISH
X-MS-OLK-FORCEINSPECTOROPEN:TRUE
BEGIN:VEVENT
UID:20260419T201724CEST-2250BRUHvI@Segelclub Wendelsee Thun
DTSTAMP:20260419T181724Z
DESCRIPTION:Helferabend für die Saison 2018 gemäss persönlicherer Einladung
 .
DTSTART:20190308T190000
DTEND:20190308T230000
LOCATION:TYC
ORGANIZER:MAILTO:Segelclub Wendelsee Thun <info@scwe.ch>
SUMMARY:SCWe-Helferabend 2019
END:VEVENT
END:VCALENDAR
