BEGIN:VCALENDAR
VERSION:2.0
PRODID:-//Segelclub Wendelsee Thun//NONSGML kigkonsult.se iCalcreator 2.16.
 12//
METHOD:PUBLISH
X-MS-OLK-FORCEINSPECTOROPEN:TRUE
BEGIN:VEVENT
UID:20260419T201028CEST-4620sH3CVr@Segelclub Wendelsee Thun
DTSTAMP:20260419T181028Z
DESCRIPTION:\nFondueabend am Freitag\, 01. Februar 2019 um 19:00 Uhr im Clu
 blokal.\nKöche: Erika und Heinz Gasser.\nWirt: Daniel Jungen\nWir bitten u
 m eure Anmeldung bis spätestens Mi\, 30. Januar 2019 mit der SCWe-Seite od
 er per Mail\n\nBesten Dank\, der Vorstand
DTSTART:20190201T200000
DTEND:20190202T000000
LOCATION:SCWe Clublokal
ORGANIZER:MAILTO:Segelclub Wendelsee Thun <info@scwe.ch>
SUMMARY:Februarhöck: Fondueabend
END:VEVENT
END:VCALENDAR
