BEGIN:VCALENDAR
VERSION:2.0
PRODID:-//Segelclub Wendelsee Thun//NONSGML kigkonsult.se iCalcreator 2.16.
 12//
METHOD:PUBLISH
X-MS-OLK-FORCEINSPECTOROPEN:TRUE
BEGIN:VEVENT
UID:20260419T213353CEST-9488afzGeK@Segelclub Wendelsee Thun
DTSTAMP:20260419T193353Z
DESCRIPTION:Freitag\, der 23. November 2018 ist richtig.\nDer 16.11.18 im I
 nfomail vom November ist falsch.\nSorry
DTSTART:20181123T120000
DTEND:20181123T130000
LOCATION:Hotel Holiday
ORGANIZER:MAILTO:Segelclub Wendelsee Thun <info@scwe.ch>
SUMMARY:Apéro zwischendurch
END:VEVENT
END:VCALENDAR
