BEGIN:VCALENDAR
VERSION:2.0
PRODID:-//Segelclub Wendelsee Thun//NONSGML kigkonsult.se iCalcreator 2.16.
 12//
METHOD:PUBLISH
X-MS-OLK-FORCEINSPECTOROPEN:TRUE
BEGIN:VEVENT
UID:20260419T201729CEST-7073TzDTBi@Segelclub Wendelsee Thun
DTSTAMP:20260419T181729Z
DESCRIPTION:Wir können euch bereits zum Altjahrshöck 2018 einladen\n\n- Dat
 um: Freitag\, 28. Dezember 2018\n- Zeit: Apéro um 19:00 Uhr\,\n  Essen ca 
 ab 19:30 Uhr\n- Anmeldung: Bitte bis spätestens\n  Mittwoch\, 26.12.18\n  
 per Mail oder mit der SCWe-Seite.\n \n\nSiehe beiliegende  Einladung.\n \n
 \nBesten Dank dem Wirteteam Heinz Gasser\, Beat Affolter und Erich Klopfen
 stein\n
DTSTART:20181228T200000
DTEND:20181229T000000
LOCATION:SCWe Clublokal
ORGANIZER:MAILTO:Segelclub Wendelsee Thun <info@scwe.ch>
SUMMARY:Altjahrshöck 2018
END:VEVENT
END:VCALENDAR
