BEGIN:VCALENDAR
VERSION:2.0
PRODID:-//Segelclub Wendelsee Thun//NONSGML kigkonsult.se iCalcreator 2.16.
 12//
METHOD:PUBLISH
X-MS-OLK-FORCEINSPECTOROPEN:TRUE
BEGIN:VEVENT
UID:20260419T201735CEST-4098xudjAB@Segelclub Wendelsee Thun
DTSTAMP:20260419T181735Z
DESCRIPTION:\nEinladung zum Chlousehöck vom Freitag\, 7. Dezember 2018\nBeg
 inn um 19:00 Uhr im Clublokal.\nBesten Dank an Rita Feller für die Vorbere
 itung und Durchführung.\nAnmeldung bitte bis Dienstag\, 4. Dezember mit de
 r Homepage oder per Mail \nBesten Dank\, der Vorstand
DTSTART:20181207T200000
DTEND:20181208T000000
LOCATION:SCWe Clublokal
ORGANIZER:MAILTO:Segelclub Wendelsee Thun <info@scwe.ch>
SUMMARY:Chlousehöck 2018
END:VEVENT
END:VCALENDAR
