BEGIN:VCALENDAR
VERSION:2.0
PRODID:-//Segelclub Wendelsee Thun//NONSGML kigkonsult.se iCalcreator 2.16.
 12//
METHOD:PUBLISH
X-MS-OLK-FORCEINSPECTOROPEN:TRUE
BEGIN:VEVENT
UID:20260419T201350CEST-9973gNCC8B@Segelclub Wendelsee Thun
DTSTAMP:20260419T181350Z
DESCRIPTION:Einladung zum Seebärenabend 2018 in Thun an der Länggasse in de
 r QUARTIERBEIZ 13 am Samstag\, 17. November 2018 um 19:00 Uhr.\nAnmeldung 
 bitte bis Sonntag\, 11. November 2018 mit der SCWe-Seite oder per Mail an 
 sekretaer@scwe\,ch\n\nAndrea Michel und der Vorstand
DTSTART:20181117T200000
DTEND:20181118T000000
LOCATION:Thun
ORGANIZER:MAILTO:Segelclub Wendelsee Thun <info@scwe.ch>
SUMMARY:Seebärenabend 2018
END:VEVENT
END:VCALENDAR
