BEGIN:VCALENDAR
VERSION:2.0
PRODID:-//Segelclub Wendelsee Thun//NONSGML kigkonsult.se iCalcreator 2.16.
 12//
METHOD:PUBLISH
X-MS-OLK-FORCEINSPECTOROPEN:TRUE
BEGIN:VEVENT
UID:20260419T201043CEST-0564Ct8V1a@Segelclub Wendelsee Thun
DTSTAMP:20260419T181043Z
DESCRIPTION: \nBereits laden wir euch zum Absegeln ein. Es wäre schön\, wen
 n sich möglichst viele SCWe-Segler zu einer letzten offiziellen Clubfahrt 
 und zum gemeinsamen  Apéro um 15:30 Uhr vor dem Bonstetten-Inseli treffen 
 würden. Dies bei passablem Wetter.\nDas traditionelle Spaghettiessen finde
 t um 18:00 Uhr im Clubhaus statt. Details siehe in der Beilage von Markus 
 Halter.\n\nBei Regenwetter geht es um 17:00 Uhr direkt ins Clubhaus zum Ap
 éro mit anschliessendem Nachtessen um 18:00 Uhr. \n\nAnmeldung für das Nac
 htessen\n\nGerne für das Spaghetti-Essen von Martha Bigler und Erika Gasse
 r im Clubhaus mit der SCWe-Seite oder per Mail an info@scwe.ch  bis Mittwo
 ch\, 10. Oktober 2018.\n
DTSTART:20181013T173000
DTEND:20181014T000000
LOCATION:Bonstetteninseli und SCWe-Clublokal
ORGANIZER:MAILTO:Segelclub Wendelsee Thun <info@scwe.ch>
SUMMARY:Absegeln
END:VEVENT
END:VCALENDAR
