BEGIN:VCALENDAR
VERSION:2.0
PRODID:-//Segelclub Wendelsee Thun//NONSGML kigkonsult.se iCalcreator 2.16.
 12//
METHOD:PUBLISH
X-MS-OLK-FORCEINSPECTOROPEN:TRUE
BEGIN:VEVENT
UID:20260419T201606CEST-7039nXzve5@Segelclub Wendelsee Thun
DTSTAMP:20260419T181606Z
DESCRIPTION:Kleiner Apéro im Hotel Holiday.\nBei schönem Wetter draussen.\n
 Ohne Anmeldung.
DTSTART:20180720T130000
DTEND:20180720T140000
LOCATION:Hotel Holiday
ORGANIZER:MAILTO:Segelclub Wendelsee Thun <info@scwe.ch>
SUMMARY:Apéro zwischendurch
END:VEVENT
END:VCALENDAR
