BEGIN:VCALENDAR
VERSION:2.0
PRODID:-//Segelclub Wendelsee Thun//NONSGML kigkonsult.se iCalcreator 2.16.
 12//
METHOD:PUBLISH
X-MS-OLK-FORCEINSPECTOROPEN:TRUE
BEGIN:VEVENT
UID:20260419T201258CEST-9670Pu1HD1@Segelclub Wendelsee Thun
DTSTAMP:20260419T181258Z
DESCRIPTION:Es findet am 02.02.2018 kein Novemberhöck statt.\n\nFreuen wir 
 uns auf den Seebärenabend vom 17. November 2018\nSeparate Einladung mit An
 meldung.\n\nDer Vorstand
DTSTART:20181102T010000
DTEND:20181102T010000
LOCATION:SCWe Clublokal
ORGANIZER:MAILTO:Segelclub Wendelsee Thun <info@scwe.ch>
SUMMARY:Kein Novemberhöck
END:VEVENT
END:VCALENDAR
