BEGIN:VCALENDAR
VERSION:2.0
PRODID:-//Segelclub Wendelsee Thun//NONSGML kigkonsult.se iCalcreator 2.16.
 12//
METHOD:PUBLISH
X-MS-OLK-FORCEINSPECTOROPEN:TRUE
BEGIN:VEVENT
UID:20260419T191354CEST-3484DoAd2h@Segelclub Wendelsee Thun
DTSTAMP:20260419T171354Z
DESCRIPTION:\nEs ist wieder so weit: 'O'zapft is' - Die Mass werden gefüllt
 \, die Weisswurst dampft und die Brezen duften herrlich.\n\nIm Angebot ste
 hen Zwickelbier vom Fass\, verschiedene Biere zum Probieren sowie Weisswur
 st mit Brezen oder wer es lieber mag einen Käsebrezen. Darzue bayerische M
 usi.\nBitte nehmt wieder einen eigenen Humpen mit: Gross\, lustig oder ori
 ginell. \n\nAnmeldung gerne bis am Mi\, 3. Oktober via SCWe-Seite oder per
  Mail info@scwe.ch\n \n\nDie Clubwirte: Charlotte und Robo\, Monika und Ma
 rkus\, Alfred\, Juan und Paul\n
DTSTART:20181005T210000
DTEND:20181006T010000
LOCATION:SCWe Clublokal
ORGANIZER:MAILTO:Segelclub Wendelsee Thun <info@scwe.ch>
SUMMARY:Oktoberfest
END:VEVENT
END:VCALENDAR
