BEGIN:VCALENDAR
VERSION:2.0
PRODID:-//Segelclub Wendelsee Thun//NONSGML kigkonsult.se iCalcreator 2.16.
 12//
METHOD:PUBLISH
X-MS-OLK-FORCEINSPECTOROPEN:TRUE
BEGIN:VEVENT
UID:20260419T155300CEST-2910SUwwxU@Segelclub Wendelsee Thun
DTSTAMP:20260419T135300Z
DESCRIPTION:Wir freuen uns\, euch auch in diesem Jahr mit unseren Crèpes-Kr
 eationen überraschen zu dürfen! \n \nAnmeldung bis am 2. September 2015.\n
  
DTSTART:20150904T190000
DTEND:20150904T235900
LOCATION:Clubhaus
ORGANIZER:MAILTO:Segelclub Wendelsee Thun <info@scwe.ch>
SUMMARY:Crepes Höck
END:VEVENT
END:VCALENDAR
