BEGIN:VCALENDAR
VERSION:2.0
PRODID:-//Segelclub Wendelsee Thun//NONSGML kigkonsult.se iCalcreator 2.16.
 12//
METHOD:PUBLISH
X-MS-OLK-FORCEINSPECTOROPEN:TRUE
BEGIN:VEVENT
UID:20260419T185223CEST-3505GjVV4c@Segelclub Wendelsee Thun
DTSTAMP:20260419T165223Z
DESCRIPTION: \nNormalerweise 'Apéro zwischendurch'\n-> ausnahmsweise geht e
 s in die Berge.\n\nDie Gruppe\, welche sich jeweils Mitte Monat im Holiday
  zum Apéro trifft\, wird ausnahmsweise ein Stockhornzmorge geniessen.\n\nD
 iese Gruppe besteht mehrheitlich aus den SCWe-Senioren. Nun haben jüngere 
 Mitglieder ihr Interesse angemeldet und die sind natürlich gerne willkomme
 n.\n\nDeshalb geht die Einladung an den ganzen Club.\n\nSiehe unter Stockh
 ornzmorge\n\n\nMein Vorschlag\nMit der Bahn entweder um 07:50 Uhr oder um 
 08:20 Uhr oder um 08:50 Uhr zum Restaurant auf dem Gipfel fahren.\nMorgene
 ssen zwischen 09:00 - 11:00 Uhr.\nDann zu Fuss oder mit der Bahn zurück.\n
 Billette:\nSiehe unter Tarife\n \n
DTSTART:20180921T110000
DTEND:20180921T150000
LOCATION:Restaurant Stockhorn
ORGANIZER:MAILTO:Segelclub Wendelsee Thun <info@scwe.ch>
SUMMARY:Stockhornzmorge
END:VEVENT
END:VCALENDAR
