BEGIN:VCALENDAR
VERSION:2.0
PRODID:-//Segelclub Wendelsee Thun//NONSGML kigkonsult.se iCalcreator 2.16.
 12//
METHOD:PUBLISH
X-MS-OLK-FORCEINSPECTOROPEN:TRUE
BEGIN:VEVENT
UID:20260419T191810CEST-8314GOvJBp@Segelclub Wendelsee Thun
DTSTAMP:20260419T171810Z
DESCRIPTION:\n\nSpanischer Abend im SCWe\nMarianne und Ruedi Mäusli laden z
 um Septemberhöck 2018 ein.\n\nDas Menü wird sein:\nApéro\nCava (spanischer
  Champagner)                                                            \n
 Menü\nGazpacho\nKichererbsen-Eintopf mit Chorizo\nMandelkuchen “Marianne”
 \n\nBildimpressionen \naus dem winterlichen Mallorca\n\nDie Kosten pro Per
 son sind Fr. 14.00 inkl. Apéro.\n\nAnmeldung bis spätestens Mittwoch\, 05.
 09.2018\, Danke!
DTSTART:20180907T210000
DTEND:20180908T010000
LOCATION:SCWe Clublokal
ORGANIZER:MAILTO:Segelclub Wendelsee Thun <info@scwe.ch>
SUMMARY:September-Höck
END:VEVENT
END:VCALENDAR
