BEGIN:VCALENDAR
VERSION:2.0
PRODID:-//Segelclub Wendelsee Thun//NONSGML kigkonsult.se iCalcreator 2.16.
 12//
METHOD:PUBLISH
X-MS-OLK-FORCEINSPECTOROPEN:TRUE
BEGIN:VEVENT
UID:20260419T191055CEST-9525H3XrmL@Segelclub Wendelsee Thun
DTSTAMP:20260419T171055Z
DESCRIPTION:\n\nJa\, die Segelsaison hat möglicherweise für den einen oder 
 anderen bereits begonnen. Also ist es höchste Zeit die Saison offiziell mi
 t dem Ansegeln zu starten. Wir freuen uns mit vielen Seglern auf die Segel
 saison 2018 anstossen zu dürfen.\n\nIndividuelles segeln am Nachmittag.\nA
 nstossen\nWegen unsicheren Wetterverhältnissen am Nachmittag findet der Ap
 éro ab 16:00 Uhr im Clublokal statt.\n \nWettervorhersage SRF\nVoralpen un
 d Alpen mit Wallis\n\nHeute Vormittag ist es oft sonnig. Bis zum Nachmitta
 g bilden sich zunehmend Quellwolken und in den Alpen lokal erste Regenscha
 uer. Am späten Nachmittag und Abend können überall Platzregen und Gewitter
  aufziehen\, jedoch wird es nicht flächendeckend nass\nDetails siehe im Fl
 yer von Markus Meister.\nDer Apéro wird durch den Club offeriert.
DTSTART:20180512T150000
DTEND:20180512T200000
LOCATION:SCWe
ORGANIZER:MAILTO:Segelclub Wendelsee Thun <info@scwe.ch>
SUMMARY:Ansegeln
END:VEVENT
END:VCALENDAR
