BEGIN:VCALENDAR
VERSION:2.0
PRODID:-//Segelclub Wendelsee Thun//NONSGML kigkonsult.se iCalcreator 2.16.
 12//
METHOD:PUBLISH
X-MS-OLK-FORCEINSPECTOROPEN:TRUE
BEGIN:VEVENT
UID:20260419T184922CEST-31567DRr6V@Segelclub Wendelsee Thun
DTSTAMP:20260419T164922Z
DESCRIPTION:Clubregatta am Sonntag\, 19. August 2018 \n\nStart: Um 14:00 Uh
 r im Startgebiet 1 oder 2\nDetails siehe im Flyer SCWe-Classic. \nWertung 
 nach Yardstick.\nDies ist eine Clubregatta und eignet sich auch für Segler
  mit wenig Regattaerfahrung.\n\nMeldung mit manage 2 Sail oder am Samstag 
 an der Rangverkündigung oder am Sonntag.\n\n\nDer Regattapräsiden
DTSTART:20180819T160000
DTEND:20180819T190000
LOCATION:SCWe
ORGANIZER:MAILTO:Segelclub Wendelsee Thun <info@scwe.ch>
SUMMARY:SCWe-Classic-Regatta
END:VEVENT
END:VCALENDAR
