BEGIN:VCALENDAR
VERSION:2.0
PRODID:-//Segelclub Wendelsee Thun//NONSGML kigkonsult.se iCalcreator 2.16.
 12//
METHOD:PUBLISH
X-MS-OLK-FORCEINSPECTOROPEN:TRUE
BEGIN:VEVENT
UID:20260419T190519CEST-1541krjO8v@Segelclub Wendelsee Thun
DTSTAMP:20260419T170519Z
DESCRIPTION:Start am Samstag\, 18. August 2018\, erste Startmöglichkeit 13.
 30 Uhr im\nStartgebiet 1 oder 2\nKurs: Up & Down Kurs mit 2 in der Höhe ve
 rschobenen Luvbojen für unterschiedliche Yardstickzahlen\, gemäss Kurskart
 e auf der Rückseite und schwarzem Brett.\nMeldung mit manage2Sail\n\nMehr:
  Siehe Flyer Wendelsee-Cup.\n\nRangverkündigung:  \nUm 1830 Uhr im Klubhau
 s SCWe\nTraditionell gibt es nach der Regatta einen gemütlichen Höck mit E
 inlaufbier und einem kleinen Menü.\n\nDas Menü: \nHörnlisalat mit Bratwurs
 t\, Bier\, Zitronenwasser gegen den Durst und etwas Süsses\n\nDer Sportche
 f und Andrea Michel für den zweiten Teil\n\n \n
DTSTART:20180818T153000
DTEND:20180818T220000
LOCATION:SCWe
ORGANIZER:MAILTO:Segelclub Wendelsee Thun <info@scwe.ch>
SUMMARY:Wendelsee-Cup
END:VEVENT
END:VCALENDAR
