BEGIN:VCALENDAR
VERSION:2.0
PRODID:-//Segelclub Wendelsee Thun//NONSGML kigkonsult.se iCalcreator 2.16.
 12//
METHOD:PUBLISH
X-MS-OLK-FORCEINSPECTOROPEN:TRUE
BEGIN:VEVENT
UID:20260419T190258CEST-5719MMiz9h@Segelclub Wendelsee Thun
DTSTAMP:20260419T170258Z
DESCRIPTION:Liebe SCWe-Mitglieder\n\nWir möchten euch alle herzlich zum SCW
 e – Augustbrunch einladen. Der Brunch vom Sonntag\, 5. August 2018 ist ein
 er der Höhenpunkte der Saison!\nEs gibt frische Früchte\, Brotsorten\, Rös
 ti und Rührei\, ein reichhaltiges Käse- und Fleischangebot und verschieden
 e Getränke! Es sollen alle Wünsche berücksichtigt werden so dass unsere Gä
 ste diesen Sonntagmorgen und den gemeinsam Brunch geniessen können!\n\nDer
  Anlass findet bei schöner Witterung auf dem Rasen vor dem Clubhaus statt 
 - bei Regen im Clubhaus. Wir erwarten euch ab 09.00 Uhr beim Clubhaus mit 
 grossem Appetit auf viele regionale Köstlichkeiten! Kosten pro Person 22.0
 0 Franken (die Kinder bezahlen ihr Alter in Franken).\n\nAnmeldung bis Mit
 twoch\, 1. August 2018 mit dem roten Meldeknopf oder per Mail an info@scwe
 .ch
DTSTART:20180805T110000
DTEND:20180805T130000
LOCATION:SCWe Clublokal
ORGANIZER:MAILTO:Segelclub Wendelsee Thun <info@scwe.ch>
SUMMARY:August-Brunch
END:VEVENT
END:VCALENDAR
