BEGIN:VCALENDAR
VERSION:2.0
PRODID:-//Segelclub Wendelsee Thun//NONSGML kigkonsult.se iCalcreator 2.16.
 12//
METHOD:PUBLISH
X-MS-OLK-FORCEINSPECTOROPEN:TRUE
BEGIN:VEVENT
UID:20260419T190518CEST-6214Muv7vP@Segelclub Wendelsee Thun
DTSTAMP:20260419T170518Z
DESCRIPTION:\n\nBrätlihöck\nBei schönem Wetter sitzen wir draussen und geni
 essen den Abend\; bei schlechtem Wetter sind wir im Clublokal oben.\nIm sc
 hlechtesten Fall wäre nur der Grill draussen und die Segler im 1. Stock.\n
 Wetterprognose: https://meteo.search.ch/thun\nIch denke\, dass wir im Frei
 en essen werden. Also Fleisch marinieren\, Salat vorbereiten . . .\n\nOrga
 nisation:\nAlle bringen das Grillgut und die Beilagen selber mit. Die Getr
 änke beziehen wir aus dem SCWe-Keller.\nSiehe beiliegender Flyer.\n\nEs br
 aucht keine Anmeldung.\n 
DTSTART:20180706T210000
DTEND:20180707T010000
LOCATION:SCWe Clublokal
ORGANIZER:MAILTO:Segelclub Wendelsee Thun <info@scwe.ch>
SUMMARY:Juli-Höck
END:VEVENT
END:VCALENDAR
