BEGIN:VCALENDAR
VERSION:2.0
PRODID:-//Segelclub Wendelsee Thun//NONSGML kigkonsult.se iCalcreator 2.16.
 12//
METHOD:PUBLISH
X-MS-OLK-FORCEINSPECTOROPEN:TRUE
BEGIN:VEVENT
UID:20260419T201215CEST-3295ZNdwCH@Segelclub Wendelsee Thun
DTSTAMP:20260419T181215Z
DESCRIPTION:\n\nEinladung zum Samschtigplausch vom 23. Juni 2018 an der Mol
 e im Hafen Güetital.\nEintreffen der Boote ab 16:15 Uhr. Apéro vom Club or
 ganisiert um 17:00 Uhr.\nWer will kann den Samschtigplausch zum Plauschwee
 kend erweitern und im Güetital übernachten. Details siehe im Flyer.\n\nAm 
 Samstag orientieren wir hier über die Durchführung des Anlasses (Wetter):
 \nSo wie es aussieht\, kann der Anlass durchgeführt werden.
DTSTART:20180623T181500
DTEND:20180624T140000
LOCATION:Güetitalhafen
ORGANIZER:MAILTO:Segelclub Wendelsee Thun <info@scwe.ch>
SUMMARY:Samschtigplausch
END:VEVENT
END:VCALENDAR
