BEGIN:VCALENDAR
VERSION:2.0
PRODID:-//Segelclub Wendelsee Thun//NONSGML kigkonsult.se iCalcreator 2.16.
 12//
METHOD:PUBLISH
X-MS-OLK-FORCEINSPECTOROPEN:TRUE
BEGIN:VEVENT
UID:20260419T155307CEST-3611VG7nEw@Segelclub Wendelsee Thun
DTSTAMP:20260419T135307Z
DESCRIPTION:
DTSTART:20150823T133000
DTEND:20150823T200000
LOCATION:Thunersee
ORGANIZER:MAILTO:Segelclub Wendelsee Thun <info@scwe.ch>
SUMMARY:SCWe Classic - Clubregatta
END:VEVENT
END:VCALENDAR
